BEGIN:VCALENDAR
VERSION:2.0
PRODID:-//hacksw/handcal//NONSGML v1.0//EN
BEGIN:VEVENT
DTSTAMP:20240201T190000Z
DTSTART:20240201T190000Z
DTEND:20240201T200000Z
LOCATION:Gemeindehaus, 26899 Neurhede, Deutschland
SUMMARY:Ortsratssitzung in Neurhede
END:VEVENT
END:VCALENDAR
