BEGIN:VCALENDAR
VERSION:2.0
PRODID:-//hacksw/handcal//NONSGML v1.0//EN
BEGIN:VEVENT
DTSTAMP:20240201T084000Z
DTSTART:20240201T084000Z
DTEND:20240201T084000Z
SUMMARY:Ortsrat Neurhede 
END:VEVENT
END:VCALENDAR
