BEGIN:VCALENDAR
VERSION:2.0
PRODID:-//hacksw/handcal//NONSGML v1.0//EN
BEGIN:VEVENT
DTSTAMP:20240131T064500Z
DTSTART:20240131T064500Z
DTEND:20240215T064500Z
LOCATION:Muster Ort, Rhede Ems, Deutschland
SUMMARY:Muster
END:VEVENT
END:VCALENDAR
